BEGIN:VCALENDAR
VERSION:2.0
PRODID:-//Gay &amp; Gray M&uuml;nchen - ECPv6.15.20//NONSGML v1.0//EN
CALSCALE:GREGORIAN
METHOD:PUBLISH
X-ORIGINAL-URL:https://www.gayandgray.org
X-WR-CALDESC:Veranstaltungen für Gay &amp; Gray M&uuml;nchen
REFRESH-INTERVAL;VALUE=DURATION:PT1H
X-Robots-Tag:noindex
X-PUBLISHED-TTL:PT1H
BEGIN:VTIMEZONE
TZID:UTC
BEGIN:STANDARD
TZOFFSETFROM:+0000
TZOFFSETTO:+0000
TZNAME:UTC
DTSTART:20250101T000000
END:STANDARD
END:VTIMEZONE
BEGIN:VEVENT
DTSTART;VALUE=DATE:20260301
DTEND;VALUE=DATE:20260302
DTSTAMP:20260424T123552
CREATED:20260216T170338Z
LAST-MODIFIED:20260216T170338Z
UID:682-1772323200-1772409599@www.gayandgray.org
SUMMARY:Wanderung „Aying“
DESCRIPTION:Am Sonntag\, den 1. März 2026 wollen wir eine Wanderung in Aying machen und zugleich\nunser Mitglied Kurt besuchen\, der dort im Altersheim lebt. \nGenaueres wird beim Gruppenabend  am 26\, Februar besprochen. \n  \nFoto: der Biersee in Aying © Von Bautsch – Eigenes Werk\, CC0\, https://commons.wikimedia.org/w/index.php?curid=108692262
URL:https://www.gayandgray.org/veranstaltung/wanderung-aying/
LOCATION:Bayern
CATEGORIES:Wanderung
ATTACH;FMTTYPE=image/jpeg:https://www.gayandgray.org/wp-content/uploads/2026/02/960px-Aying.Biersee.P1104647.jpg
END:VEVENT
END:VCALENDAR